BEGIN:VCALENDAR
VERSION:2.0
PRODID:-//iddconnectoregon.com - ECPv6.15.17.1//NONSGML v1.0//EN
CALSCALE:GREGORIAN
METHOD:PUBLISH
X-ORIGINAL-URL:https://iddconnectoregon.com
X-WR-CALDESC:Events for iddconnectoregon.com
REFRESH-INTERVAL;VALUE=DURATION:PT1H
X-Robots-Tag:noindex
X-PUBLISHED-TTL:PT1H
BEGIN:VTIMEZONE
TZID:America/Los_Angeles
BEGIN:DAYLIGHT
TZOFFSETFROM:-0800
TZOFFSETTO:-0700
TZNAME:PDT
DTSTART:20250309T100000
END:DAYLIGHT
BEGIN:STANDARD
TZOFFSETFROM:-0700
TZOFFSETTO:-0800
TZNAME:PST
DTSTART:20251102T090000
END:STANDARD
BEGIN:DAYLIGHT
TZOFFSETFROM:-0800
TZOFFSETTO:-0700
TZNAME:PDT
DTSTART:20260308T100000
END:DAYLIGHT
BEGIN:STANDARD
TZOFFSETFROM:-0700
TZOFFSETTO:-0800
TZNAME:PST
DTSTART:20261101T090000
END:STANDARD
BEGIN:DAYLIGHT
TZOFFSETFROM:-0800
TZOFFSETTO:-0700
TZNAME:PDT
DTSTART:20270314T100000
END:DAYLIGHT
BEGIN:STANDARD
TZOFFSETFROM:-0700
TZOFFSETTO:-0800
TZNAME:PST
DTSTART:20271107T090000
END:STANDARD
END:VTIMEZONE
BEGIN:VEVENT
DTSTART;TZID=America/Los_Angeles:20260425T160000
DTEND;TZID=America/Los_Angeles:20260425T180000
DTSTAMP:20260423T014129
CREATED:20260324T183018Z
LAST-MODIFIED:20260324T183321Z
UID:4548-1777132800-1777140000@iddconnectoregon.com
SUMMARY:Advocacy BINGO-Eugene\,OR
DESCRIPTION:Advocacy BINGO-Eugene\, OR \n\n\n\n\n\n\n\n \n\n\n\n🎉🟡 Advocacy BINGO – Fun\, Food & Disability Rights! \n\n\n\nJoin the Community Advocacy Council (CAC) for a fun and meaningful evening of Advocacy BINGO! Enjoy a lively game of bingo\, connect with others\, and learn about disability rights history in an engaging and welcoming environment. \n\n\n\n🍕 Pizza provided🎲 BINGO games & prizes📚 Learn & connect through advocacy \n\n\n\nThis is a great opportunity for individuals\, families\, and community members to come together\, have fun\, and build awareness around advocacy and disability rights. \n\n\n\n🗓 April 25\, 2026⏰ 4:00 PM – 6:00 PM📍 Hilyard Community Center2580 Hilyard St\, Eugene \n\n\n\n🎟 Free event – registration required📞 Call to register: 541-682-5311 \n\n\n\nBring a friend and join us for an evening of connection\, learning\, and fun!
URL:https://iddconnectoregon.com/event/advocacy-bingo-eugene-oregon-2026/
LOCATION:Hilyard Community Center\, 2580 Hilyard St\, Eugene\, OR\, 97405\, United States
CATEGORIES:18 & Older,Advocacy,Friend / Networking,Game Night
ATTACH;FMTTYPE=image/png:https://iddconnectoregon.com/wp-content/uploads/2026/03/Advocacy-BINGO-flyer-4.25.26.png
END:VEVENT
BEGIN:VEVENT
DTSTART;TZID=America/Los_Angeles:20260426T140000
DTEND;TZID=America/Los_Angeles:20260426T160000
DTSTAMP:20260423T014129
CREATED:20260422T214621Z
LAST-MODIFIED:20260422T214623Z
UID:4645-1777212000-1777219200@iddconnectoregon.com
SUMMARY:Let’s Taco ‘Bout Health!-Cooking Classes- Roseburg\, OR
DESCRIPTION:🌮🥬 Let’s Taco ‘Bout Health! 🥬🌮\n\n\n\n\n\n\n\n🌮🥬 Let’s Taco ‘Bout Health! 🥬🌮 \n\n\n\nLooking to spice up your meals and learn something new? Join us for a fun and flavorful cooking class focused on delicious\, plant-based creations! \n\n\n\n👩‍🍳✨ Discover how to make healthy\, tasty dishes you can recreate at home🌱 Enjoy plant-based alternatives and fresh ideas📖 Take home recipes and sample the goodness! \n\n\n\n📍 Better Living Center1129 NW Garden Valley BlvdRoseburg\, OR \n\n\n\n📅 Last Sunday of Every Month⏰ Starting April 26 at 2:00 PM \n\n\n\n⚠️ Spaces are limited — sign up today!📞 Call to reserve your seat: (541) 391-1058 \n\n\n\n🎉 Presented by Plum Creek Vegan \n\n\n\nBring a friend and come ready to cook\, learn\, and have fun — it’s going to be taco-tally delicious! 🌮💚
URL:https://iddconnectoregon.com/event/lets-taco-bout-health-cooking-classes-roseburg-or/
LOCATION:Better Living Center\, 1129 NW Garden Valley Blvd\, Roseburg\, Oregon\, 97471
CATEGORIES:Event,Friend / Networking,Monthly Meeting
ATTACH;FMTTYPE=image/jpeg:https://iddconnectoregon.com/wp-content/uploads/2026/04/TacoBoutHealthCookingClass-Roseburg.jpg
END:VEVENT
BEGIN:VEVENT
DTSTART;TZID=America/Los_Angeles:20260430T113000
DTEND;TZID=America/Los_Angeles:20260430T123000
DTSTAMP:20260423T014129
CREATED:20260330T205429Z
LAST-MODIFIED:20260330T205432Z
UID:4588-1777548600-1777552200@iddconnectoregon.com
SUMMARY:Legos At The Carousel - Albany\, OR
DESCRIPTION:🧱 Legos at the Carousel – Once Upon Thursday 🎠 \n\n\n\nWhen\n\n\n\nThursday\, April 2\, 202611:30 AM – 12:30 PM(Happening the first Thursday of every month!) \n\n\n\nWhere\n\n\n\n📍 Albany Carousel503 1st Ave WAlbany\, OR 97321 \n\n\n\n\n\n\n\nLooking for a fun\, relaxed\, and welcoming activity? \n\n\n\nJoin The Connection Club\, in partnership with Autism Society of Oregon and Alliance Services\, for Legos at the Carousel — a creative and inclusive space where everybody belongs! 💛 \n\n\n\nThis free\, recurring event takes place during a quieter time at the carousel\, offering a comfortable environment to build\, create\, and connect. \n\n\n\n✨ What to expect:🧱 Hands-on LEGO building fun😊 A calm\, inclusive setting🤝 Opportunities to connect and socialize🎠 A unique and engaging location \n\n\n\nWhether you love to build\, want to meet new people\, or just enjoy a creative break — this is a great way to spend your morning! \n\n\n\n🎟️ Free event – all are welcome
URL:https://iddconnectoregon.com/event/legos-at-the-carousel-albany-or-5/
LOCATION:Albany Carousel & Museum\, 503 W 1st Ave\, Albany\, Oregon\, 97321
CATEGORIES:All Ages,Event,Friend / Networking,Game Night
ATTACH;FMTTYPE=image/jpeg:https://iddconnectoregon.com/wp-content/uploads/2026/03/Legos-Albany.jpg
ORGANIZER;CN="The Connection Club":MAILTO:ED@connectionclub.com
END:VEVENT
BEGIN:VEVENT
DTSTART;TZID=America/Los_Angeles:20260501T170000
DTEND;TZID=America/Los_Angeles:20260501T190000
DTSTAMP:20260423T014129
CREATED:20260330T210330Z
LAST-MODIFIED:20260330T210332Z
UID:4595-1777654800-1777662000@iddconnectoregon.com
SUMMARY:Game Night – Fun\, Friends & Connection! - Beaverton\, OR
DESCRIPTION:🎮 Game Night – Fun\, Friends & Connection! 🎲 \n\n\n\nWhen\n\n\n\nFirst Friday of Every Month5:00 PM – 7:00 PM \n\n\n\nWhere\n\n\n\n📍 Unified Art Studio6700 SW 105th Ave\, #106Beaverton\, OR 97008 \n\n\n\n\n\n\n\nLooking for a fun way to unwind\, meet new people\, and enjoy a relaxed evening? \n\n\n\nJoin The Connection Club\, in partnership with Autism Society of Oregon\, Alliance Services\, and the Program for Intellectual Empowerment\, for a welcoming Game Night where everyone belongs! 💛 \n\n\n\n✨ What to expect:🎮 Video and board games for all interests😊 A relaxed\, inclusive\, and supportive environment🤝 Opportunities to build friendships and connect🍽️ Dinner provided \n\n\n\nThis free\, recurring monthly event is perfect for individuals of all ages looking for a fun and comfortable space to socialize and have a great time. \n\n\n\n🎟️ Free event – all are welcome \n\n\n\n🔗 Learn more or register:https://charity.pledgeit.org/PIEGameNight
URL:https://iddconnectoregon.com/event/game-night-fun-friends-connection-beaverton-or-2/
LOCATION:Unified Art Studio\, 6700 SW 105th Ave #106\, Beaverton\, Oregon\, 97008
CATEGORIES:Event,Friend / Networking,Game Night
ATTACH;FMTTYPE=image/jpeg:https://iddconnectoregon.com/wp-content/uploads/2026/03/Game-Night-Beaverton.jpg
ORGANIZER;CN="The Connection Club":MAILTO:ED@connectionclub.com
END:VEVENT
BEGIN:VEVENT
DTSTART;TZID=America/Los_Angeles:20260502T120000
DTEND;TZID=America/Los_Angeles:20260502T160000
DTSTAMP:20260423T014129
CREATED:20260119T193620Z
LAST-MODIFIED:20260119T193658Z
UID:4359-1777723200-1777737600@iddconnectoregon.com
SUMMARY:Shine Together: Autism Walk & Festival-Redmond OR
DESCRIPTION:Shine Together: Autism Walk & Festival-Redmond OR\n\n\n\n\n\n\n\n📅 Date: May 2⏰ Time: 12:00 PM – 4:00 PM📍 Location: General Duffy’s Waterhole\, Redmond\, OR \n\n\n\nJoin us for a fun-filled day of community\, connection\, and celebration!The Shine Together: Autism Walk & Festival brings together families\, friends\, and supporters from across Central Oregon for an uplifting event supporting individuals and families impacted by autism. \n\n\n\nThis inspiring event includes:✨ A scenic and inclusive autism walk🎉 Festival activities for all ages🎶 Music\, food\, and entertainment🎈 Family-friendly games and activities🤝 Community resources and vendor booths \n\n\n\nWhether you’re walking in support of a loved one or attending to enjoy the festival\, this event is all about coming together\, raising awareness\, and shining together as a community. \n\n\n\n👉 Learn more & register:https://www.classy.org/event/shine-together-autism-walk-and-festival/e759138
URL:https://iddconnectoregon.com/event/shine-together-autism-walk-festival-redmond-or/
LOCATION:General Duffy’s Waterhole\, 404 SW Forest Ave\, Redmond\, Oregon\, 97746
CATEGORIES:All Ages,Event
ATTACH;FMTTYPE=image/png:https://iddconnectoregon.com/wp-content/uploads/2026/01/AutismWalkFestival-Redmond.png
END:VEVENT
BEGIN:VEVENT
DTSTART;TZID=America/Los_Angeles:20260504T090000
DTEND;TZID=America/Los_Angeles:20260504T180000
DTSTAMP:20260423T014129
CREATED:20260325T223204Z
LAST-MODIFIED:20260325T223205Z
UID:4555-1777885200-1777917600@iddconnectoregon.com
SUMMARY:Day of Discovery-Wildlife Safari- Roseburg\, OR
DESCRIPTION:Day of Discovery-Wildlife Safari- Roseburg\, OR\n\n\n\n\n\n🦁 Day of Discovery at Wildlife Safari 🐾 \n\n\n\nWhen\n\n\n\nMay 4 & May 5\, 2026 \n\n\n\n\n\nWhere\n\n\n\nWildlife Safari1790 Safari RdWinston\, OR 97496 \n\n\n\n\n\n\n\nJoin us for a Day of Discovery — a fun\, inclusive experience designed for adults and children with developmental disabilities and their families! \n\n\n\nSpend the day exploring and enjoying:🚗 A drive-through safari adventure🐾 Animal appearances🗣️ Keeper chats🎪 Vendors and more exciting activities \n\n\n\nThis special event creates a welcoming space for everyone to learn\, explore\, and connect with nature in a supportive environment. \n\n\n\n✨ Don’t miss this unique opportunity to experience Wildlife Safari in a way that’s engaging\, accessible\, and full of discovery! \n\n\n\n🔗 Learn more & register: \n\n\n\nMore Information & Tickets Wildlife Safari invites you to join us for our Days of Discovery\, a special two-day inclusive event designed for individuals with developmental disabilities (our VIPs) and their families. More Information & Tickets Here
URL:https://iddconnectoregon.com/event/day-of-discovery-wildlife-safari-oregon-roseburg/
LOCATION:Wildlife Safari\, 1790 Safari Rd\, Winston\, Oregon\, 97496
CATEGORIES:All Ages,Event,Friend / Networking
ATTACH;FMTTYPE=image/png:https://iddconnectoregon.com/wp-content/uploads/2026/03/Day-of-Discovery-Wildlife-Safari.png
END:VEVENT
BEGIN:VEVENT
DTSTART;TZID=America/Los_Angeles:20260505T090000
DTEND;TZID=America/Los_Angeles:20260505T180000
DTSTAMP:20260423T014129
CREATED:20260325T223306Z
LAST-MODIFIED:20260325T223308Z
UID:4562-1777971600-1778004000@iddconnectoregon.com
SUMMARY:Day of Discovery-Wildlife Safari- Roseburg\, OR
DESCRIPTION:Day of Discovery-Wildlife Safari- Roseburg\, OR\n\n\n\n\n\n🦁 Day of Discovery at Wildlife Safari 🐾 \n\n\n\nWhen\n\n\n\nMay 4 & May 5\, 2026 \n\n\n\n\n\nWhere\n\n\n\nWildlife Safari1790 Safari RdWinston\, OR 97496 \n\n\n\n\n\n\n\nJoin us for a Day of Discovery — a fun\, inclusive experience designed for adults and children with developmental disabilities and their families! \n\n\n\nSpend the day exploring and enjoying:🚗 A drive-through safari adventure🐾 Animal appearances🗣️ Keeper chats🎪 Vendors and more exciting activities \n\n\n\nThis special event creates a welcoming space for everyone to learn\, explore\, and connect with nature in a supportive environment. \n\n\n\n✨ Don’t miss this unique opportunity to experience Wildlife Safari in a way that’s engaging\, accessible\, and full of discovery! \n\n\n\n🔗 Learn more & register: \n\n\n\nMore Information & Tickets Wildlife Safari invites you to join us for our Days of Discovery\, a special two-day inclusive event designed for individuals with developmental disabilities (our VIPs) and their families. More Information u0026 Tickets Here
URL:https://iddconnectoregon.com/event/day-of-discovery-wildlife-safari-roseburg-or/
LOCATION:Wildlife Safari\, 1790 Safari Rd\, Winston\, Oregon\, 97496
CATEGORIES:All Ages,Event,Friend / Networking
ATTACH;FMTTYPE=image/png:https://iddconnectoregon.com/wp-content/uploads/2026/03/Day-of-Discovery-Wildlife-Safari.png
END:VEVENT
BEGIN:VEVENT
DTSTART;TZID=America/Los_Angeles:20260513T173000
DTEND;TZID=America/Los_Angeles:20260513T190000
DTSTAMP:20260423T014129
CREATED:20260422T211615Z
LAST-MODIFIED:20260422T211617Z
UID:4637-1778693400-1778698800@iddconnectoregon.com
SUMMARY:Sensory Sensitive Evening at Eugene Science Center - Eugene\, OR
DESCRIPTION:🌟🧩 Sensory Sensitive Evening at Eugene Science Center 🧩🌟\n\n\n\n\n\n \n\n\n\n\n\nExperience science in a way that feels comfortable\, calm\, and welcoming for everyone. \n\n\n\nThe Eugene Science Center is hosting a special Sensory Sensitive Evening\, designed for neurodiverse children and adults who prefer a quieter\, less sensory-stimulating environment. \n\n\n\n✨ Enjoy exhibits in a relaxed\, low-stimulation setting✨ Experience sensory-friendly planetarium shows & activities✨ Enjoy a thoughtfully adapted environment designed to support sensory needs✨ Move at your own pace in a welcoming\, inclusive space \n\n\n\n📅 Wednesday\, May 13th⏰ 5:30 PM – 7:00 PM \n\n\n\n🎟️ Free event (pre-registration requested)👉 eugenesciencecenter.org/sensoryhours/ \n\n\n\n\nPre-register Here\n\n\n\n\nCome discover\, explore\, and enjoy an evening designed with comfort and accessibility in mind. 💙 \n\n\n\n#EugeneScienceCenter #SensoryFriendly #InclusiveEvents #Neurodiversity #AccessibleEvents #EugeneEvents #FamilyFriendly #CommunitySupport
URL:https://iddconnectoregon.com/event/sensory-sensitive-evening-eugene-science-center/
LOCATION:Eugene Science Center\, 2300 Leo Harris Parkway\, Eugene\, Oregon\, 97401
CATEGORIES:Event
ATTACH;FMTTYPE=image/png:https://iddconnectoregon.com/wp-content/uploads/2026/04/General-Graphic-for-Socials.png
END:VEVENT
BEGIN:VEVENT
DTSTART;TZID=America/Los_Angeles:20260605T170000
DTEND;TZID=America/Los_Angeles:20260605T190000
DTSTAMP:20260423T014129
CREATED:20260330T210436Z
LAST-MODIFIED:20260330T210440Z
UID:4597-1780678800-1780686000@iddconnectoregon.com
SUMMARY:Game Night – Fun\, Friends & Connection! - Beaverton\, OR
DESCRIPTION:🎮 Game Night – Fun\, Friends & Connection! 🎲 \n\n\n\nWhen\n\n\n\nFirst Friday of Every Month5:00 PM – 7:00 PM \n\n\n\nWhere\n\n\n\n📍 Unified Art Studio6700 SW 105th Ave\, #106Beaverton\, OR 97008 \n\n\n\n\n\n\n\nLooking for a fun way to unwind\, meet new people\, and enjoy a relaxed evening? \n\n\n\nJoin The Connection Club\, in partnership with Autism Society of Oregon\, Alliance Services\, and the Program for Intellectual Empowerment\, for a welcoming Game Night where everyone belongs! 💛 \n\n\n\n✨ What to expect:🎮 Video and board games for all interests😊 A relaxed\, inclusive\, and supportive environment🤝 Opportunities to build friendships and connect🍽️ Dinner provided \n\n\n\nThis free\, recurring monthly event is perfect for individuals of all ages looking for a fun and comfortable space to socialize and have a great time. \n\n\n\n🎟️ Free event – all are welcome \n\n\n\n🔗 Learn more or register:https://charity.pledgeit.org/PIEGameNight
URL:https://iddconnectoregon.com/event/game-night-fun-friends-connection-beaverton-or-3/
LOCATION:Unified Art Studio\, 6700 SW 105th Ave #106\, Beaverton\, Oregon\, 97008
CATEGORIES:Event,Friend / Networking,Game Night
ATTACH;FMTTYPE=image/jpeg:https://iddconnectoregon.com/wp-content/uploads/2026/03/Game-Night-Beaverton.jpg
ORGANIZER;CN="The Connection Club":MAILTO:ED@connectionclub.com
END:VEVENT
BEGIN:VEVENT
DTSTART;TZID=America/Los_Angeles:20260711T083000
DTEND;TZID=America/Los_Angeles:20260711T140000
DTSTAMP:20260423T014129
CREATED:20260422T224340Z
LAST-MODIFIED:20260422T224341Z
UID:4652-1783758600-1783778400@iddconnectoregon.com
SUMMARY:Crossing Bridges Therapeutic Riding Center's 13th Annual Golf Tournament - Grants Pass\, OR
DESCRIPTION:⛳✨ 13th Annual Crossing Bridges Golf Tournament ✨⛳\n\n\n\n\n\n\n\nJoin us for a day on the green in support of an incredible cause! The Crossing Bridges Therapeutic Riding Center invites you to their 13th Annual Golf Tournament — a fun-filled event benefiting programs that enrich lives through the healing power of equines. \n\n\n\nEnjoy a great day of golf while helping provide scholarships\, improve accessibility\, and support ongoing operations for individuals and families served by Crossing Bridges. \n\n\n\n📅 Saturday\, July 11th⏰ Start Time: 8:30 AM📍 Dutcher Creek Golf Course\, Grants Pass\, OR \n\n\n\n💵 Registration:$100 per player | $400 per team(Registration includes golf cart and lunch) \n\n\n\n🏌️ Format: 4-Man Scramble🏆 Prizes include $10\,000 Hole-in-One\, KP\, and Longest Drive \n\n\n\nWhether you’re playing for fun or competition\, your participation makes a meaningful impact! \n\n\n\n📞 Questions? Contact Jennifer Clark at 541-441-7945 \n\n\n\n\nRegister for Golf Tournament Here:
URL:https://iddconnectoregon.com/event/crossing-bridges-golf-tournament-grants-pass-oregon/
LOCATION:Dutcher Creek Golf Course\, 4611 Upper River Rd\, Grants Pass\, Oregon\, 97526
CATEGORIES:18 & Older,Annual Event,Fundraiser
ATTACH;FMTTYPE=image/jpeg:https://iddconnectoregon.com/wp-content/uploads/2026/04/643758647_959594546421801_6224237047969760577_n.jpg
ORGANIZER;CN="Crossing Bridges Therapeutic Riding Center":MAILTO:jennifer@crossingbridgestrc.org
END:VEVENT
BEGIN:VEVENT
DTSTART;TZID=America/Los_Angeles:20260714T090000
DTEND;TZID=America/Los_Angeles:20260714T123000
DTSTAMP:20260423T014129
CREATED:20260422T230249Z
LAST-MODIFIED:20260422T231915Z
UID:4662-1784019600-1784032200@iddconnectoregon.com
SUMMARY:Adult Mental Health First Aid Training - ONLINE
DESCRIPTION:🧠💚 Adult Mental Health First Aid Training 💚🧠\n\n\n\n\n\n\n\nGain the skills and confidence to support others when it matters most. Mental Health First Aid is an early intervention training that teaches adults how to recognize\, understand\, and respond to signs of mental health and substance use challenges. \n\n\n\nThis blended course includes self-paced online modules followed by instructor-led training\, giving participants practical tools to respond in both crisis and non-crisis situations. \n\n\n\n📅 Upcoming Dates:• July 14–15• September 22–23 \n\n\n\n⏰ Time: 9:00 AM – 12:30 PM (both days)💻 Location: Online💲 Cost: Free \n\n\n\n👥 Ideal for employers\, caregivers\, first responders\, and anyone who wants to better support others. \n\n\n\n📘 What You’ll Learn:• How to recognize signs of mental health challenges• How to respond using the 5-step Action Plan (ALGEE)• How to provide support and connect others to resources• The importance of early intervention and self-care \n\n\n\n🌟 Build awareness\, reduce stigma\, and be prepared to help — because mental health matters. \n\n\n\n🔗 Register here: \n\n\n\n\nRegister July 14-15\, 2026\n\n\n\nRegister Sept 22-23\, 2026
URL:https://iddconnectoregon.com/event/adult-mental-health-first-aid-training-online/
LOCATION:Oregon
CATEGORIES:18 & Older,Behavioral Support,Community Information,Online Training
ATTACH;FMTTYPE=image/png:https://iddconnectoregon.com/wp-content/uploads/2026/04/MentalHealthFirstAid-e1776899747624.png
END:VEVENT
BEGIN:VEVENT
DTSTART;TZID=America/Los_Angeles:20260715T090000
DTEND;TZID=America/Los_Angeles:20260715T123000
DTSTAMP:20260423T014129
CREATED:20260422T231755Z
LAST-MODIFIED:20260422T231757Z
UID:4673-1784106000-1784118600@iddconnectoregon.com
SUMMARY:Adult Mental Health First Aid Training - ONLINE
DESCRIPTION:🧠💚 Adult Mental Health First Aid Training 💚🧠\n\n\n\n\n\n\n\nGain the skills and confidence to support others when it matters most. Mental Health First Aid is an early intervention training that teaches adults how to recognize\, understand\, and respond to signs of mental health and substance use challenges. \n\n\n\nThis blended course includes self-paced online modules followed by instructor-led training\, giving participants practical tools to respond in both crisis and non-crisis situations. \n\n\n\n📅 Upcoming Dates:• July 14–15• September 22–23 \n\n\n\n⏰ Time: 9:00 AM – 12:30 PM (both days)💻 Location: Online💲 Cost: Free \n\n\n\n👥 Ideal for employers\, caregivers\, first responders\, and anyone who wants to better support others. \n\n\n\n📘 What You’ll Learn:• How to recognize signs of mental health challenges• How to respond using the 5-step Action Plan (ALGEE)• How to provide support and connect others to resources• The importance of early intervention and self-care \n\n\n\n🌟 Build awareness\, reduce stigma\, and be prepared to help — because mental health matters. \n\n\n\n🔗 Register here: \n\n\n\n\nRegister July 14-15\, 2026\n\n\n\nRegister Sept 22-23\, 2026
URL:https://iddconnectoregon.com/event/adult-mental-health-first-aid-training-online-2/
LOCATION:Oregon
CATEGORIES:18 & Older,Behavioral Support,Community Information,Online Training
ATTACH;FMTTYPE=image/png:https://iddconnectoregon.com/wp-content/uploads/2026/04/MentalHealthFirstAid-e1776899747624.png
END:VEVENT
BEGIN:VEVENT
DTSTART;TZID=America/Los_Angeles:20260922T090000
DTEND;TZID=America/Los_Angeles:20260922T123000
DTSTAMP:20260423T014129
CREATED:20260422T232028Z
LAST-MODIFIED:20260422T232029Z
UID:4675-1790067600-1790080200@iddconnectoregon.com
SUMMARY:Adult Mental Health First Aid Training - ONLINE
DESCRIPTION:🧠💚 Adult Mental Health First Aid Training 💚🧠\n\n\n\n\n\n\n\nGain the skills and confidence to support others when it matters most. Mental Health First Aid is an early intervention training that teaches adults how to recognize\, understand\, and respond to signs of mental health and substance use challenges. \n\n\n\nThis blended course includes self-paced online modules followed by instructor-led training\, giving participants practical tools to respond in both crisis and non-crisis situations. \n\n\n\n📅 Upcoming Dates:• July 14–15• September 22–23 \n\n\n\n⏰ Time: 9:00 AM – 12:30 PM (both days)💻 Location: Online💲 Cost: Free \n\n\n\n👥 Ideal for employers\, caregivers\, first responders\, and anyone who wants to better support others. \n\n\n\n📘 What You’ll Learn:• How to recognize signs of mental health challenges• How to respond using the 5-step Action Plan (ALGEE)• How to provide support and connect others to resources• The importance of early intervention and self-care \n\n\n\n🌟 Build awareness\, reduce stigma\, and be prepared to help — because mental health matters. \n\n\n\n🔗 Register here: \n\n\n\n\nRegister July 14-15\, 2026\n\n\n\nRegister Sept 22-23\, 2026
URL:https://iddconnectoregon.com/event/adult-mental-health-first-aid-training-online-3/
LOCATION:Oregon
CATEGORIES:18 & Older,Behavioral Support,Community Information,Online Training
ATTACH;FMTTYPE=image/png:https://iddconnectoregon.com/wp-content/uploads/2026/04/MentalHealthFirstAid-e1776899747624.png
END:VEVENT
BEGIN:VEVENT
DTSTART;TZID=America/Los_Angeles:20260923T090000
DTEND;TZID=America/Los_Angeles:20260923T123000
DTSTAMP:20260423T014129
CREATED:20260422T232125Z
LAST-MODIFIED:20260422T232127Z
UID:4677-1790154000-1790166600@iddconnectoregon.com
SUMMARY:Adult Mental Health First Aid Training - ONLINE
DESCRIPTION:🧠💚 Adult Mental Health First Aid Training 💚🧠\n\n\n\n\n\n\n\nGain the skills and confidence to support others when it matters most. Mental Health First Aid is an early intervention training that teaches adults how to recognize\, understand\, and respond to signs of mental health and substance use challenges. \n\n\n\nThis blended course includes self-paced online modules followed by instructor-led training\, giving participants practical tools to respond in both crisis and non-crisis situations. \n\n\n\n📅 Upcoming Dates:• July 14–15• September 22–23 \n\n\n\n⏰ Time: 9:00 AM – 12:30 PM (both days)💻 Location: Online💲 Cost: Free \n\n\n\n👥 Ideal for employers\, caregivers\, first responders\, and anyone who wants to better support others. \n\n\n\n📘 What You’ll Learn:• How to recognize signs of mental health challenges• How to respond using the 5-step Action Plan (ALGEE)• How to provide support and connect others to resources• The importance of early intervention and self-care \n\n\n\n🌟 Build awareness\, reduce stigma\, and be prepared to help — because mental health matters. \n\n\n\n🔗 Register here: \n\n\n\n\nRegister July 14-15\, 2026\n\n\n\nRegister Sept 22-23\, 2026
URL:https://iddconnectoregon.com/event/adult-mental-health-first-aid-training-online-4/
LOCATION:Oregon
CATEGORIES:18 & Older,Behavioral Support,Community Information,Online Training
ATTACH;FMTTYPE=image/png:https://iddconnectoregon.com/wp-content/uploads/2026/04/MentalHealthFirstAid-e1776899747624.png
END:VEVENT
END:VCALENDAR